BEGIN:VCALENDAR
PRODID:-//eluceo/ical//2.0/EN
VERSION:2.0
CALSCALE:GREGORIAN
BEGIN:VEVENT
UID:51b6b7eb-06e4-4751-9f0d-2d3fa2cc8dd1
DTSTAMP:20260420T175346Z
SUMMARY:Aanvang ce eerste tijdvak
DESCRIPTION:cse 1e tijdvak Aanvang ce eerste tijdvak\nhttps://www.examenbla
 d.nl/2028/activiteiten/2028-05-12-aanvang-ce-eerste-tijdvak
URL:https://www.examenblad.nl/2028/activiteiten/2028-05-12-aanvang-ce-eerst
 e-tijdvak
DTSTART;VALUE=DATE:20280512
STATUS:CONFIRMED
X-MICROSOFT-CDO-BUSYSTATUS:FREE
END:VEVENT
BEGIN:VEVENT
UID:e553487d-ad83-46e3-8ac9-964185991ca9
DTSTAMP:20260420T175346Z
SUMMARY:Einde ce eerste tijdvak
DESCRIPTION:cse 1e tijdvak Einde ce eerste tijdvak\nhttps://www.examenblad.
 nl/2028/activiteiten/2028-05-30-einde-ce-eerste-tijdvak
URL:https://www.examenblad.nl/2028/activiteiten/2028-05-30-einde-ce-eerste-
 tijdvak
DTSTART;VALUE=DATE:20280530
STATUS:CONFIRMED
X-MICROSOFT-CDO-BUSYSTATUS:FREE
END:VEVENT
BEGIN:VTIMEZONE
TZID:Europe/Amsterdam
BEGIN:DAYLIGHT
DTSTART:20280512T000000
TZNAME:CEST
TZOFFSETTO:+0200
TZOFFSETFROM:+0200
END:DAYLIGHT
END:VTIMEZONE
END:VCALENDAR
